BEGIN:VCALENDAR
VERSION:2.0
PRODID:-//kesho_innovation - ECPv6.15.20//NONSGML v1.0//EN
CALSCALE:GREGORIAN
METHOD:PUBLISH
X-WR-CALNAME:kesho_innovation
X-ORIGINAL-URL:http://keshoinnovationcenter.bi
X-WR-CALDESC:Events for kesho_innovation
REFRESH-INTERVAL;VALUE=DURATION:PT1H
X-Robots-Tag:noindex
X-PUBLISHED-TTL:PT1H
BEGIN:VTIMEZONE
TZID:UTC
BEGIN:STANDARD
TZOFFSETFROM:+0000
TZOFFSETTO:+0000
TZNAME:UTC
DTSTART:20220101T000000
END:STANDARD
END:VTIMEZONE
BEGIN:VEVENT
DTSTART;TZID=UTC:20231218T000000
DTEND;TZID=UTC:20231219T000000
DTSTAMP:20260420T144001
CREATED:20231121T203230Z
LAST-MODIFIED:20231126T101930Z
UID:5228-1702857600-1702944000@keshoinnovationcenter.bi
SUMMARY:Game Tournament
DESCRIPTION:🎮 Welcome To The Gaming Extravaganza Brought To You By The Dynamic Collaboration Of “Kesho Innovation Group ” And “Odyssey Game Zone ” 🌟 \nGet Ready To Embark On A Thrilling Journey Of Competition And Skill As We Present To You The Ultimate Game Tournament Featuring The Showdown Between FIFA 2024⚽️ \n📆 Date: 18/12/2023-19/12/2023\n📍 Venue: Odyssey Game Zone (Rucsa Plaza au Centre Ville) \n🎮 In This Adrenaline-Pumping Tournament\, Gamers From All Walks Of Life Will Unite To Showcase Their Prowess In The Chosen Arena Of Either FIFA 2024. The Decision Is Yours – Which Game Will You Dominate And Emerge Victorious? \n💸 To Join The Excitement\, Participants Are Required To Contribute A Minimal Entry Fee Of 15\,000FBU. Your Ticket To Fame Awaits As You Step Into The Gaming Battleground With Your Chosen Game. \n🏆 Now\, Let’s Talk Rewards! The Stakes Are High\, And So Are The Prizes:\n🥇 First Place: 200\,000FBU\n🥈 Second Place: 100\,000FBU\n🥉 Third Place: 30\,000FBU \nSeize The Opportunity To Not Only Prove Your Gaming Mettle But Also Walk Away With Incredible Cash Prizes! It’s Time To Turn Your Passion For Gaming Into A Victory Story. \nDon’t Miss Out On This Epic Showdown – Register Now And Secure Your Spot In The “Kesho Innovation Group” And “Odyssey Game Zone” Game Tournament! Let The Games Begin! 🚀🎮 #GameOn #KeshoOdysseyTournament \nPlease enable JavaScript in your browser to complete this form.Please enable JavaScript in your browser to complete this form.Name *FirstLastGaming Alias/Username: *Email *Phone Number(WhatsApp) *Preferred Game:FIFA 2023NBAHave you participated in any gaming tournaments before?YesNoGaming Platform that you are familiar of :XboxPlayStationPCHow did you hear about our tournament?Social MediaWord of MouthPoster/FlyerOtherAny comments or questions?Submit
URL:http://keshoinnovationcenter.bi/event/game-tournament/
ORGANIZER;CN="Kesho Innovation":MAILTO:info@keshoinnovationcenter.bi
END:VEVENT
END:VCALENDAR